BEGIN:VCALENDAR
VERSION:2.0
PRODID:-//deTekentafel.com - ECPv6.15.17.1//NONSGML v1.0//EN
CALSCALE:GREGORIAN
METHOD:PUBLISH
X-WR-CALNAME:deTekentafel.com
X-ORIGINAL-URL:https://detekentafel.com
X-WR-CALDESC:Evenementen voor deTekentafel.com
REFRESH-INTERVAL;VALUE=DURATION:PT1H
X-Robots-Tag:noindex
X-PUBLISHED-TTL:PT1H
BEGIN:VTIMEZONE
TZID:Europe/Amsterdam
BEGIN:DAYLIGHT
TZOFFSETFROM:+0100
TZOFFSETTO:+0200
TZNAME:CEST
DTSTART:20170326T010000
END:DAYLIGHT
BEGIN:STANDARD
TZOFFSETFROM:+0200
TZOFFSETTO:+0100
TZNAME:CET
DTSTART:20171029T010000
END:STANDARD
BEGIN:DAYLIGHT
TZOFFSETFROM:+0100
TZOFFSETTO:+0200
TZNAME:CEST
DTSTART:20180325T010000
END:DAYLIGHT
BEGIN:STANDARD
TZOFFSETFROM:+0200
TZOFFSETTO:+0100
TZNAME:CET
DTSTART:20181028T010000
END:STANDARD
BEGIN:DAYLIGHT
TZOFFSETFROM:+0100
TZOFFSETTO:+0200
TZNAME:CEST
DTSTART:20190331T010000
END:DAYLIGHT
BEGIN:STANDARD
TZOFFSETFROM:+0200
TZOFFSETTO:+0100
TZNAME:CET
DTSTART:20191027T010000
END:STANDARD
BEGIN:DAYLIGHT
TZOFFSETFROM:+0100
TZOFFSETTO:+0200
TZNAME:CEST
DTSTART:20200329T010000
END:DAYLIGHT
BEGIN:STANDARD
TZOFFSETFROM:+0200
TZOFFSETTO:+0100
TZNAME:CET
DTSTART:20201025T010000
END:STANDARD
BEGIN:DAYLIGHT
TZOFFSETFROM:+0100
TZOFFSETTO:+0200
TZNAME:CEST
DTSTART:20210328T010000
END:DAYLIGHT
BEGIN:STANDARD
TZOFFSETFROM:+0200
TZOFFSETTO:+0100
TZNAME:CET
DTSTART:20211031T010000
END:STANDARD
BEGIN:DAYLIGHT
TZOFFSETFROM:+0100
TZOFFSETTO:+0200
TZNAME:CEST
DTSTART:20220327T010000
END:DAYLIGHT
BEGIN:STANDARD
TZOFFSETFROM:+0200
TZOFFSETTO:+0100
TZNAME:CET
DTSTART:20221030T010000
END:STANDARD
END:VTIMEZONE
BEGIN:VEVENT
DTSTART;TZID=Europe/Amsterdam:20211120T000000
DTEND;TZID=Europe/Amsterdam:20211121T235959
DTSTAMP:20260420T152151
CREATED:20200214T190919Z
LAST-MODIFIED:20210418T124151Z
UID:2937-1637366400-1637539199@detekentafel.com
SUMMARY:Heroes Dutch Comic Con 2021 | Jaarbeurs Utrecht
DESCRIPTION:Op 19 en 20 juni 2021 vindt Heroes Dutch Comic Con 2021 plaats in de jaarbeurs in Utrecht. \n \n  \nHet evenement stond oorspronkelijk gepland voor 4 en 5 juli 2020\, maar werd verzet in verband met het Corona Virus. \nDaarna werd het verschoven naar 20 en 21 juni 2021. Omdat de organisatie er niet op vertrouwde dat het in juni 2021 al mogelijk is om een groot evenement te houden\, is het nu op 21 en 22 november 2021 ingepland. \nHet programma wordt later aangevuld. \nHoud de site van Heroes Dutch Comic Con in de gaten voor de meest actuele informatie. \n  \n  \n 
URL:https://detekentafel.com/event/heroes-dutch-comic-con-2020-spring-edition/
LOCATION:De Jaarbeurs\, Utrecht
CATEGORIES:Festival
END:VEVENT
BEGIN:VEVENT
DTSTART;TZID=Europe/Amsterdam:20210707T000000
DTEND;TZID=Europe/Amsterdam:20210707T235959
DTSTAMP:20260420T152151
CREATED:20191204T181739Z
LAST-MODIFIED:20210418T121557Z
UID:2773-1625616000-1625702399@detekentafel.com
SUMMARY:Black Widow | Marvel Film Premiere Nederland
DESCRIPTION:Op 7 juli 2021 komt de nieuwe Black Widow Marvel Film  uit in de Nederlandse bioscopen. \n \nWe kennen Black Widow\, gespeeld door Scarlett Johansson\, al uit de Avengers films. Nu komt haar eerste solo film uit\, waarin we kennismaken met haar achtergrond en haar verleden als spion. \nDeze actievolle spionage thriller is ook de eerste film van de zogenaamde Fase 4 van de Marvel Superhelden Films. \n  \nDit is de final trailer van de film: \n \nDit is de teaser trailer van de Black Widow Marvel film: \n \nEn dit is de tweede trailer die op 14 januari 2020 verscheen: \n \nBlack Widow zou al eind april 2020 in de bioscoop verschijnen\, maar de premiere werd al eerder door de wereldwijde corona crisis verplaatst naar november 2020. De film is nogmaals verzet naar 5 mei 2021 en nu naar 7 juli 2021. Hiermee komt de film een jaar later uit dan de bedoeling was.
URL:https://detekentafel.com/event/black-widow-marvel-film-premiere-nederland/
LOCATION:Nederland\, Nederland
CATEGORIES:Film
END:VEVENT
BEGIN:VEVENT
DTSTART;VALUE=DATE:20210331
DTEND;VALUE=DATE:20210401
DTSTAMP:20260420T152151
CREATED:20200823T142047Z
LAST-MODIFIED:20210311T100912Z
UID:3264-1617148800-1617235199@detekentafel.com
SUMMARY:Wonder Woman 1984 | Film Premiere Nederland
DESCRIPTION:Op 31 maart 2021 gaat Wonder Woman 1984 eindelijk in premiere in Nederland. \n \nDe film zal niet meer verschijnen in de bioscopen wegens herhaaldelijk uitstel door coronamaatregelen. \nIn plaats daarvan komt de film beschikbaar via verschillende streamingdiensten als iTunes en Pathe thuis. \n  \nDe eerste Wonder Woman film speelde zich af tijdens de Eerste Wereldoorlog. In dit tweede deel springen we flink wat jaren vooruit in de tijd naar de jaren ’80. \nDiana Prince\, oftewel Wonder Woman\, gaat tijdens de Koude Oorlog op weg naar de Sovjet-Unie. Daarneemt ze het op tegen Barbara Ann Minerva. Minerva is een Britse antropoloog die speciale krachten heeft gekregen en beter bekend is als Cheetah. \nOmdat Wonder Woman 1984 eigenlijk al afgelopen zomer in de bioscopen had moeten draaien\, verscheen eind 2019 al de eerste trailer. Door de omstandigheden rondom het Covid virus werd de film uitgesteld naar oktober\, daarna naar december 2020\, naar januari 2021 en uiteindelijk naar 31 maart 2021. \nDit is de eerste trailer uit 2019: \n \nTijdens de DC Fandome presentatie op 22 augustus 2020 verscheen de tweede trailer\, waarin we voor de eerste keer ook wat beelden van tegenstander Cheetah te zien krijgen. \nDit is de meest recente trailer uit december 2020: \n \n \nWarner heeft nu ook een fragment uit het begin van de film vrijgegeven: \n \n 
URL:https://detekentafel.com/event/wonder-woman-1984-film-premiere-nederland/
LOCATION:Nederland\, Nederland
CATEGORIES:Film
END:VEVENT
BEGIN:VEVENT
DTSTART;VALUE=DATE:20200902
DTEND;VALUE=DATE:20200903
DTSTAMP:20260420T152151
CREATED:20200718T174712Z
LAST-MODIFIED:20200830T115252Z
UID:3179-1599004800-1599091199@detekentafel.com
SUMMARY:The New Mutants | Marvel Film Premiere Nederland
DESCRIPTION:Op 2 september 2020 gaat The New Mutants in de Nederlandse bioscoop in première. Het is de eerste Marvel superheldenfilm die uitkomt sinds Spider-Man: Far From Home uit 2019. \n \nThe New Mutants speelt zich af in een geïsoleerd ziekenhuis waar een groep jonge mutanten vastgehouden wordt voor psychiatrisch onderzoek. Ze ontdekken dat ze over verschillende superkrachten bezitten en moeten samen hun krachten bundelen om te kunnen ontsnappen.  \nDe film is losjes gebaseerd op de New Mutants comic van Marvel en bevat onder anderen de mutanten Wolfsbane\, Magik\, Cannonball en Sunspot. \nBekijk hier de trailers van de film: \n \n \nEn dit is een nieuw fragment uit de film:
URL:https://detekentafel.com/event/the-new-mutants-marvel-film-premiere-nederland/
LOCATION:Nederland\, Nederland
CATEGORIES:Film
END:VEVENT
BEGIN:VEVENT
DTSTART;VALUE=DATE:20200206
DTEND;VALUE=DATE:20200207
DTSTAMP:20260420T152151
CREATED:20191215T153706Z
LAST-MODIFIED:20200109T210303Z
UID:2804-1580947200-1581033599@detekentafel.com
SUMMARY:Birds of Prey: Harley Quinn | Film Premiere Nederland
DESCRIPTION:Op 6 februari 2020 komt in Nederland de superheldenfilm Birds of Prey uit in de bioscoop. \n \nDe volledige titel van de film is Birds of Prey and the Faboulous Emancipation of one Harley Quinn. \nHet personage Harley Quinn\, die we kennen uit de DC comics en superheldenfilm The Suicide Squad zal de hoofdrol spelen in deze film. \nBirds of Prey volgt Harley Quinn\, die haar relatie met de Joker intussen heeft verbroken. Ze probeert het leven van een jong meisje te redden uit de handen van een gevaarlijke crimineel. Hierbij wordt ze geholpen door enkele andere vrouwelijke DC superhelden zoals Black Canary en Huntress. \nDit is de trailer van de film: \n \nThe Game Awards Spot: \n \nTrailer 2: \n \n  \nMeer informatie over deze film vind je hier
URL:https://detekentafel.com/event/birds-of-prey-harley-quinn-film-premiere-nederland/
CATEGORIES:Film
END:VEVENT
BEGIN:VEVENT
DTSTART;VALUE=DATE:20190704
DTEND;VALUE=DATE:20190705
DTSTAMP:20260420T152151
CREATED:20190602T150408Z
LAST-MODIFIED:20190623T162443Z
UID:2563-1562198400-1562284799@detekentafel.com
SUMMARY:Spider-Man Far From Home | Film premiere Nederland
DESCRIPTION:Op 4 juli 2019 gaat in Nederland de superheldenfilm Spider-Man Far From Home in première. \n \nNa de gebeurtenissen van Avengers: Endgame gaat Peter Parker met zijn vrienden op reis door Europa. Tijdens de reis wordt zijn hulp ingeroepen door Nick Fury. Europa wordt opgeschrikt door een aantal grote aanvallen\, die voor veel chaos zorgen en alleen Spider-Man kan helpen. \nIn de film wordt Spider-Man bijgestaan door de mysterieuze Mysterio en krijgen we ook meer inzicht in wat de gebeurtenissen in Avengers: Endgame voor gevolgen hebben gehad voor de Marvel wereld. \nBekijk hieronder de trailer en meerdere nieuwe fragmenten van Spider-Man Far From Home. \nDit is de trailer: \n \nIn dit langere fragment zien we het nieuwe karakter Mysterio die een soort van vaderrol op zich neemt voor de jonge Peter Parker. \n \nDe volgende twee fragmenten laten nog wat andere aspecten zien uit de film\, zoals de interactie met zijn vrienden en zijn nieuwe spinnenpak. \nhttps://youtu.be/tfw0lPk46E0 \n \n 
URL:https://detekentafel.com/event/spider-man-far-from-home-filmpremiere-nederland/
CATEGORIES:Film
END:VEVENT
BEGIN:VEVENT
DTSTART;VALUE=DATE:20190424
DTEND;VALUE=DATE:20190425
DTSTAMP:20260420T152151
CREATED:20181211T215218Z
LAST-MODIFIED:20190319T152357Z
UID:2284-1556064000-1556150399@detekentafel.com
SUMMARY:Avengers: Endgame | Marvel Film Première Nederland
DESCRIPTION:Op 24 april 2019 gaat de Marvel superheldenfilm Avengers: Endgame in Nederland in première. \n \nDe film is het vervolg op Avengers: Infinity War. Eindelijk zullen we weten of de superhelden die die film overleefden nog iets kunnen verzinnen om het einde van Infinity War ongedaan te kunnen maken. \nDit is de eerste Nederlands ondertitelde trailer van Avengers: Endgame: \n \nEn dit is de tweede trailer die op 14 maart 2019 verscheen: \n \nTijdens de Superbowl op 3 februari 2019 kregen we ook al iets meer te zien van de film: \n \nNog heel even geduld en dan kun je Avengers: Endgame gaan bekijken. \nWil je vantevoren nog even up to date komen met het verhaal van de eerdere Marvel films ? Bekijk dan hier ons handige artikel met de samenvatting van wat er voorafging aan de nieuwe film.
URL:https://detekentafel.com/event/avengers-endgame-marvel-film-premiere-nederland/
CATEGORIES:Film
END:VEVENT
BEGIN:VEVENT
DTSTART;VALUE=DATE:20190323
DTEND;VALUE=DATE:20190325
DTSTAMP:20260420T152151
CREATED:20190202T143747Z
LAST-MODIFIED:20190223T125552Z
UID:2402-1553299200-1553471999@detekentafel.com
SUMMARY:Heroes Dutch Comic Con en De Stripdagen 2019
DESCRIPTION:Op 23 en 24 maart 2019 vindt in de Jaarbeurs Utrecht de nieuwe editie plaats van Heroes Dutch Comic Con samen met De Stripdagen 2019. \n \nTijdens Het festival vinden allerlei Strips en Comic gerelateerde activiteiten en beurzen plaats en worden prijzen uitgereikt voor Beste Albums van het Jaar. Tijdens het evenement wordt tevens de Stripschapprijs 2019 uitgereikt aan Typex. \nWil je meer weten over het programma? We houden het voor je bij in dit speciale artikel.
URL:https://detekentafel.com/event/heroes-dutch-comic-con-en-de-stripdagen-2019/
LOCATION:De Jaarbeurs\, Utrecht
CATEGORIES:Festival
END:VEVENT
BEGIN:VEVENT
DTSTART;VALUE=DATE:20190306
DTEND;VALUE=DATE:20190311
DTSTAMP:20260420T152151
CREATED:20181207T163630Z
LAST-MODIFIED:20190306T210405Z
UID:2276-1551830400-1552262399@detekentafel.com
SUMMARY:Captain Marvel | Film Première Nederland
DESCRIPTION:Op 6  maart 2019 gaat de Marvel superheldenfilm Captain Marvel in première in de Nederlandse Bioscoop \n \nOp het einde van de film Avengers Infinity War zien we dat Nick Fury\, directeur van Shield\, de hulp inroept van een mysterieus karakter. Het bleek om Captain Marvel te gaan.  Gezien de ramp die zich er in die film voltrok\, wekt dat wel wat verwachtingen rondom deze nieuwe superheld. In de film Captain Marvel maken we kennis met de heldin. \nDe film speelt zich vele jaren af voor de gebeurtenissen in Infinity War\, dus het verhaal fungeert als een soort prequel. Bovendien is het de eerste verfilming van een Marvel superhelden comic met een vrouwelijke held in de hoofdrol. \nDit is een korte intruductie tot de belangrijkste personages in de film: \n \nDit is trailer van de film: \n \n \nActrice Brie Larson poste op 2 februari 2019 deze lange clip op haar Twitter account: \n\nI’ll just leave this here. #CaptainMarvel pic.twitter.com/G8VTnnz7AE \n— Brie Larson (@brielarson) February 2\, 2019 \n \nTijdens de Superbowl op 3 februari\, verscheen deze trailer van Captain Marvel:
URL:https://detekentafel.com/event/captain-marvel-film-premiere-nederland/
CATEGORIES:Film
END:VEVENT
BEGIN:VEVENT
DTSTART;VALUE=DATE:20181123
DTEND;VALUE=DATE:20181206
DTSTAMP:20260420T152151
CREATED:20180701T180725Z
LAST-MODIFIED:20181202T143818Z
UID:1717-1542931200-1544054399@detekentafel.com
SUMMARY:Blake en Mortimer deel 25 - Stripverhaal
DESCRIPTION:In november komt het langverwachte nieuwe deel 25 uit van de bekende strip Blake en Mortimer. Deze keer wordt het getekend door het Nederlandse duo Teun Berserik en Peter van Dongen. \n \nUitgever Dargaud heeft bekendgemaakt dat het nieuwe stripverhaal van Blake en Mortimer op 16 november in Frankrijk verschijnt. Het is het eerste deel van een nieuw tweeluik en het speelt zich af in Hong Kong. Inmiddels weten we dat de Nederlandse versie op 23 november verschijnt. \nWat weten we allemaal nog meer over Blake en Mortimer deel 25? We hebben het voor je samengevat in een uitgebreid artikel. Om dit artikel te lezen klik hier. \n(2/12/2018 update) Inmiddels is het album verschenen. Klik hier voor onze review van Blake en Mortimer 25 – De Vallei Der Onsterfelijken (Deel 1) \n \n  \n 
URL:https://detekentafel.com/event/blake-en-mortimer-25-stripverhaal/
CATEGORIES:Stripverhaal
END:VEVENT
BEGIN:VEVENT
DTSTART;VALUE=DATE:20181123
DTEND;VALUE=DATE:20181201
DTSTAMP:20260420T152151
CREATED:20180814T135145Z
LAST-MODIFIED:20181222T164500Z
UID:2027-1542931200-1543622399@detekentafel.com
SUMMARY:Thorgal 36: Aniel - Stripverhaal
DESCRIPTION:Op 23 november 2018 komt Thorgal 36 uit. Het nieuwe deel uit de Thorgal serie krijgt de titel Aniel. In dit deel komt de hoofdreeks over Thorgal Aegirsson samen met de twee zijreeksen over Kriss van Valnor en Wolvin. \nDit is de cover van het album: \n \nDit is de cover van de luxe versie van het album: \n \nDe uitgever geeft de volgende tekst mee als beschrijving van het verhaal: \n‘Na een lange queeste heeft Thorgal eindelijk zijn zoon Aniël teruggevonden. Maar ook de terugreis belooft geen lachertje te worden. Gesterkt door de wetenschap dat de rest van zijn Vikingfamilie op hen wacht in zijn thuisland\, laat Thorgal zich door niets of niemand uit zijn koers slaan…’ \nHet scenario voor Thorgal 36 wordt geschreven door Yann en als vanouds getekend door Rosinski zelf. Het is wel het laatste deel van Thorgal dat hij zelf zal tekenen. \n \nMet dit deel komen de beide parallelreeksen tot een einde. Het laatste deel over Kriss van Valnor (deel 8\, De Opperrechter) komt op 31 oktober 2018 uit. \nDe hoofdreeks van Thorgal gaat na deel 36 gewoon door met een andere tekenaar\, Fred Vignaux\, die ook de twee laatste delen van Kriss van Valnor tekende. \nDe derde spin-off reeks over de jonge jaren van Thorgal door Yann en Roman Surzhenko zal nog twee nieuwe delen krijgen. \n(update 22 december 2018: Intussen is het album uit. Voor onze review klik hier.)
URL:https://detekentafel.com/event/thorgal-36-aniel-stripverhaal/
CATEGORIES:Stripverhaal
END:VEVENT
BEGIN:VEVENT
DTSTART;VALUE=DATE:20181004
DTEND;VALUE=DATE:20181005
DTSTAMP:20260420T152151
CREATED:20180721T172658Z
LAST-MODIFIED:20180731T215941Z
UID:1916-1538611200-1538697599@detekentafel.com
SUMMARY:Venom - Film Premiere Nederland
DESCRIPTION:Op 4 oktober gaat in Nederland de superheldenfilm Venom in première. \n \nJournalist Eddie Brock komt in aanraking met een buitenaardse symbioot\, die onderdeel wordt van zijn lichaam. Samen vormen ze de afschrikwekkende levensvorm Venom. Dit is de eerste trailer van de film: \n \nEn dit is de tweede trailer van de film\, waarin we meer te zien krijgen van het monster: \n \nDe symbioot is oorspronkelijk afkomstig uit de Marvel Comic Spider-Man. In de comics is Spider-Man een van zijn eerste slachtoffers. In de volgende video wordt zijn geschiedenis in de Marvel comics  toegelicht. \n \nWe zagen de alien ook al eerder in de film Spider-Man 3. Spider-Man komt niet voor in deze nieuwe film van Sony\, maar er wordt wel over een toekomstige cross-over gespeculeerd.
URL:https://detekentafel.com/event/venom-film-premiere-nederland/
CATEGORIES:Film
END:VEVENT
BEGIN:VEVENT
DTSTART;VALUE=DATE:20180901
DTEND;VALUE=DATE:20180903
DTSTAMP:20260420T152151
CREATED:20180818T183757Z
LAST-MODIFIED:20180818T183757Z
UID:2041-1535760000-1535932799@detekentafel.com
SUMMARY:Comic Con Amsterdam 2018
DESCRIPTION:Op 1 en 2 september 2018 vindt Comic Con Amsterdam 2018 plaats in de RAI. Wat is er dit weekend allemaal te doen? \n \nNaast de gebruikelijke grote beursvloer met commerciele stands\, cosplaywedstrijden en signerende tekenaars en acteurs staan er ook een aantal bijzondere activiteiten ingepland.  We doen een greep uit het programma: \nOp zaterdag 1 september kun je op de Comic Stage verschillende bekende comic en striptekenaars verwachten\, zoals Kenny Rubenis (Dating For Geeks)\, Aimee de Jongh (Snippers) en Yasmin Sheikh (Luna the Vampire). Er zijn panels over vrouwen in comics\, science fiction uit Nederland en Nederlandse auteurs die in het buitenland bekender zijn dan hier. \nOp zondag 2 september staat de Comics Stage in het teken van Geeks en alles wat daarmee te maken heeft. Daarnaast is er een presentatie voor striptekenaars\, die graag willen dat hun werk wordt uitgegeven. \nBeide dagen zijn er Prop Shoots\, waar je op de foto kan met decors en spullen uit Stranger Things en The Big Bang Theory en is er een Harry Potter Broom Rodeo en zijn er demonstraties van Pro Wrestling Holland. \nBekijk hier het volledige programma van Comic Con Amsterdam 2018.
URL:https://detekentafel.com/event/comic-con-amsterdam-2018/
CATEGORIES:Festival
END:VEVENT
BEGIN:VEVENT
DTSTART;VALUE=DATE:20180718
DTEND;VALUE=DATE:20180726
DTSTAMP:20260420T152151
CREATED:20180427T215624Z
LAST-MODIFIED:20180715T121826Z
UID:938-1531872000-1532563199@detekentafel.com
SUMMARY:Ant-Man and the Wasp - Marvel Film Release Nederland
DESCRIPTION:Voor iedereen die nieuwsgierig is naar nieuwe avonturen van de Marvel superhelden. Op 18 juli komt de film Ant-Man and the Wasp uit in de Nederlandse bioscoop. \n \nIn de VS kwam de film uit op 6 juli en hij heeft nu al meer bioscoop bezoek getrokken dan werd verwacht. \nNiet alleen de bezoekers vinden de film de moeite waard\, maar ook de critici zijn enthousiast. De bekende filmrecensie website Rotten Tomatoes geeft de film een score van 86% Fresh. \nHet is de eerste film in de reeks Marvel films na het succesvolle Avengers Infinity War. Hoewel Ant-Man and the Wasp zich eerder in de tijd afspeelt\, is de verwachting dat hij wel naar de gebeurtenissen uit die film zal verwijzen. \nMarvel heeft recent op zijn Instagram account een fragment uit de film geplaatst\, dat hint naar het verband met Infinity War. Om ons artikel met dat fragment en nog meer andere fragmenten te bekijken klik hier. \nMisschien heb je wel nog even een opfrisser nodig over het verhaal van Ant-Man 1? We hebben een handige samenvatting voor je van het eerste deel! Klik daarvoor hier.
URL:https://detekentafel.com/event/ant-man-and-the-wasp-film/
CATEGORIES:Film
END:VEVENT
BEGIN:VEVENT
DTSTART;VALUE=DATE:20180623
DTEND;VALUE=DATE:20181119
DTSTAMP:20260420T152151
CREATED:20180713T132733Z
LAST-MODIFIED:20180713T132850Z
UID:1854-1529712000-1542585599@detekentafel.com
SUMMARY:De Generaal en Peter de Smet - Tentoonstelling Groningen
DESCRIPTION:Van 23 juni tot en met 18 november 2018 organiseer het Nederlands Stripmuseum in Groningen een overzichtstentoonstelling van het werk van striptekenaar Peter de Smet en zijn strip De Generaal. \n \nHet bekendste stripverhaal van Peter De Smet is De Generaal. De strip De Generaal gaat over een generaal die  ‘de macht’ probeert te grijpen door op allerlei absurde manieren het fort van De Maarschalk aan te vallen. Dit mislukt altijd en in ieder verhaal eindigt de De Generaal in de cel van het fort. \nDe aantrekkingskracht van De Generaal schuilt naast dit eenvoudige gegeven en de hilarische methoden die hij gebruikt om de macht te grijpen met name in de bijfiguren\, die in de strip voorbijkomen.  Vaak vormen de ontmoetingen met de bijfiguren ook weer terugkerende grappen. Zo probeert motoragent Dreutel in veel verhalen te voorkomen dat De Generaal zijn plannen kan uitvoeren. Dit mislukt ook altijd en zijn motorfiets overleeft in de meeste gevallen ook het eind van elk verhaal niet. Dit is te vergelijken met het lot van de piraten in de strips van Asterix en Obelix. \n \nAndere bijfiguren zijn De Professor\, die meestal alle listen en wapens levert en De Soldaat\, die de tank bestuurt. Vaak vormen de verhalen en bijfiguren ook commentaar op actuele gebeurtenissen en bekende personages uit de periode tussen 1971 en 2003\, waarin de strip verscheen. \nIn de tentoonstelling in Groningen wordt ook aandacht besteedt aan de andere stripverhalen van Peter De Smet\, zoals Joris PK\, Viva Zapapa en Otto\, Olivier en Oskar\, dat in Donald Duck weekblad verscheen. Naast de strips\, zijn er in Groningen ook cartoons\, posters en ander grafisch werk van De Smet te zien. \n \nOp dit moment is bij uitgeverij Personalia ook het eerste deel verschenen van de integrale reeks die alle strips van De Generaal moet gaan bundelen. Ook het Nederlandse tijdschrift Strip Glossy heeft recent een speciaal nummer over De Generaal uitgebracht. Klik voor onze bespreking van dat nummer hier. \n  \n  \n 
URL:https://detekentafel.com/event/de-generaal-en-peter-de-smet-tentoonstelling-groningen/
LOCATION:Nederlands Stripmuseum Groningen\, Groningen
CATEGORIES:Tentoonstelling
END:VEVENT
BEGIN:VEVENT
DTSTART;VALUE=DATE:20180525
DTEND;VALUE=DATE:20180604
DTSTAMP:20260420T152151
CREATED:20180525T232248Z
LAST-MODIFIED:20180530T104233Z
UID:206-1527206400-1528070399@detekentafel.com
SUMMARY:Stripdagen 2018 - Haarlem
DESCRIPTION:Wat is er te doen op de Stripdagen in Haarlem 2018? \nVan 25 mei tot en met 3 juni 2018 zal de 14e editie van de Stripdagen Haarlem plaatsvinden.\nHet thema van dit jaar is ‘De maakbare mens\, 200 jaar Frankenstein’. \nNaast de grote stripboekenbeurs in het weekend van 26 en 27 mei zijn er nog veel meer activiteiten gepland. \nKlik hier voor onze uitgebreide vooruitblik op de belangrijkste en leukste\nprogramma onderdelen en klik hier voor de algemene website van de Stripdagen Haarlem 2018. \n \n 
URL:https://detekentafel.com/event/stripdagen-haarlem-2018/
CATEGORIES:Festival
ATTACH;FMTTYPE=image/png:https://detekentafel.com/wp-content/uploads/2017/11/Stripdagen-Haarlem.png
END:VEVENT
BEGIN:VEVENT
DTSTART;VALUE=DATE:20180425
DTEND;VALUE=DATE:20180426
DTSTAMP:20260420T152151
CREATED:20180421T230807Z
LAST-MODIFIED:20180421T230807Z
UID:898-1524614400-1524614400@detekentafel.com
SUMMARY:Avengers: Infinity War
DESCRIPTION:Op 25 april komt de langverwachte Marvel film Avengers: Infinity War uit. Zie voor de trailer en een samenvatting van de voorafgaande films dit artikel dat we recent plaatsten.  \n \n 
URL:https://detekentafel.com/event/avengers-infinity-war/
CATEGORIES:Film
END:VEVENT
END:VCALENDAR